BEGIN:VCALENDAR
VERSION:2.0
PRODID:-//217.160.0.198//NONSGML kigkonsult.se iCalcreator 2.20//
CALSCALE:GREGORIAN
METHOD:PUBLISH
X-WR-TIMEZONE:Europe/Berlin
BEGIN:VEVENT
UID:event186@Stadthalle Osterode am Harz 
DTSTAMP:20260425T110406Z
CATEGORIES:Sonstiges
DESCRIPTION:Herzinfarkt - bin ich gefährdet?\nKategorie: Sonstiges\nICS-Lin
 k: https://osterode-stadthalle.de/index.php?option=com_jem&view=event&id=1
 86:herzinfarkt-bin-ich-gefaehrdet\n
DTSTART;TZID=Europe/Berlin:20170411T170000
DTEND;TZID=Europe/Berlin:20170411T170000
LOCATION:Eintritt frei!
SUMMARY:Herzinfarkt - bin ich gefährdet?
URL:https://osterode-stadthalle.de/index.php?option=com_jem&view=event&id=1
 86:herzinfarkt-bin-ich-gefaehrdet
END:VEVENT
END:VCALENDAR
