BEGIN:VCALENDAR
VERSION:2.0
PRODID:-//217.160.0.198//NONSGML kigkonsult.se iCalcreator 2.20//
CALSCALE:GREGORIAN
METHOD:PUBLISH
X-WR-TIMEZONE:Europe/Berlin
BEGIN:VEVENT
UID:event141@Stadthalle Osterode am Harz 
DTSTAMP:20260425T105155Z
CATEGORIES:Ausstellungen\, Messen und Märkte
DESCRIPTION:Hallentrödel\nKategorie: Ausstellungen\, Messen und Märkte\nICS
 -Link: https://osterode-stadthalle.de/index.php?option=com_jem&view=event&
 id=141:hallentroedel\n
DTSTART;TZID=Europe/Berlin:20161119T100000
DTEND;TZID=Europe/Berlin:20161119T160000
LOCATION:Eintritt frei!
SUMMARY:Hallentrödel
URL:https://osterode-stadthalle.de/index.php?option=com_jem&view=event&id=1
 41:hallentroedel
END:VEVENT
END:VCALENDAR
